BEGIN:VCALENDAR
VERSION:2.0
PRODID:-//Eesti Erametsaliit - ECPv6.6.4.2//NONSGML v1.0//EN
CALSCALE:GREGORIAN
METHOD:PUBLISH
X-WR-CALNAME:Eesti Erametsaliit
X-ORIGINAL-URL:https://2024.erametsaliit.ee
X-WR-CALDESC:Events for Eesti Erametsaliit
REFRESH-INTERVAL;VALUE=DURATION:PT1H
X-Robots-Tag:noindex
X-PUBLISHED-TTL:PT1H
BEGIN:VTIMEZONE
TZID:Europe/Tallinn
BEGIN:DAYLIGHT
TZOFFSETFROM:+0200
TZOFFSETTO:+0300
TZNAME:EEST
DTSTART:20190331T010000
END:DAYLIGHT
BEGIN:STANDARD
TZOFFSETFROM:+0300
TZOFFSETTO:+0200
TZNAME:EET
DTSTART:20191027T010000
END:STANDARD
END:VTIMEZONE
BEGIN:VEVENT
DTSTART;VALUE=DATE:20191116
DTEND;VALUE=DATE:20191117
DTSTAMP:20260420T122449
CREATED:20191029T140907Z
LAST-MODIFIED:20191029T140907Z
UID:3945-1573862400-1573948799@2024.erametsaliit.ee
SUMMARY:Viru-Lemmu Metsaseltsi jahinduse õppepäev
DESCRIPTION:Eesti Erametsaliidu liige Viru-Lemmu Metsaselts korraldab jahinduse õppepäeva\, mille teemaks on “Suurulukid ja metsakahjud@. \nÕppepäev toimub 16. novembril algusega kell 9.00 Laekvere Jahimeeste Ühingu lasketiirus Arukse külas Vinni vallas.\nOsalejatel palume valida metsaretkeks sobiv riietus. \nÜritust toetab SA Erametsakeskus ja on tasuta.\nInfo: Guido Ploompuu\, guido.ploompuu@erametsaliit.ee või 55 583 777.
URL:https://2024.erametsaliit.ee/sundmus/viru-lemmu-metsaseltsi-jahinduse-oppepaev/
END:VEVENT
BEGIN:VEVENT
DTSTART;VALUE=DATE:20191019
DTEND;VALUE=DATE:20191020
DTSTAMP:20260420T122449
CREATED:20191003T141344Z
LAST-MODIFIED:20191003T141404Z
UID:3894-1571443200-1571529599@2024.erametsaliit.ee
SUMMARY:Jahinduse õppepäev Simunas
DESCRIPTION:Eesti Erametsaliidu liige Viru-Lemmu metsaselts korraldab jahinduse õppepäeva teemal “Suurulukid ja metsakahjud”.\nÕppepäev toimub 19. oktoobril 2019 algusega kell 9.00 Simunas Simuna jahimajas. \nSelga metsaretkeks sobiv riietus! \nÜritust toetab SA Erametsakeskus ja on tasuta.\nLisainfo: guido.ploompuu@erametsaliit.ee või tel 55 583 777.
URL:https://2024.erametsaliit.ee/sundmus/jahinduse-oppepaev-simunas/
ATTACH;FMTTYPE=image/jpeg:https://2024.erametsaliit.ee/wp-content/uploads/2019/09/ppepaev-metsas.jpg
END:VEVENT
BEGIN:VEVENT
DTSTART;VALUE=DATE:20191012
DTEND;VALUE=DATE:20191013
DTSTAMP:20260420T122449
CREATED:20191003T141220Z
LAST-MODIFIED:20191003T141220Z
UID:3892-1570838400-1570924799@2024.erametsaliit.ee
SUMMARY:Jahinduse õppepäev Rakkes
DESCRIPTION:Eesti Erametsaliidu liige Viru-Lemmu metsaselts korraldab jahinduse õppepäeva teemal “Suurulukid ja metsakahjud”.\nÕppepäev toimub 12. oktoobril 2019 algusega kell 9.00 Rakkes Rakke Jahiseltsi jahimajas (Suur-Rakke külas\,Rakke ristteelt 1km Jõgeva suunas). \nSelga metsaretkeks sobiv riietus! \nÜritust toetab SA Erametsakeskus ja on tasuta.\nLisainfo: guido.ploompuu@erametsaliit.ee või tel 55 583 777.
URL:https://2024.erametsaliit.ee/sundmus/jahinduse-oppepaev-rakkes/
ATTACH;FMTTYPE=image/jpeg:https://2024.erametsaliit.ee/wp-content/uploads/2019/09/ppepaev-metsas.jpg
END:VEVENT
END:VCALENDAR