BEGIN:VCALENDAR
VERSION:2.0
PRODID:-//Eesti Erametsaliit - ECPv6.6.4.2//NONSGML v1.0//EN
CALSCALE:GREGORIAN
METHOD:PUBLISH
X-WR-CALNAME:Eesti Erametsaliit
X-ORIGINAL-URL:https://2024.erametsaliit.ee
X-WR-CALDESC:Events for Eesti Erametsaliit
REFRESH-INTERVAL;VALUE=DURATION:PT1H
X-Robots-Tag:noindex
X-PUBLISHED-TTL:PT1H
BEGIN:VTIMEZONE
TZID:Europe/Tallinn
BEGIN:DAYLIGHT
TZOFFSETFROM:+0200
TZOFFSETTO:+0300
TZNAME:EEST
DTSTART:20190331T010000
END:DAYLIGHT
BEGIN:STANDARD
TZOFFSETFROM:+0300
TZOFFSETTO:+0200
TZNAME:EET
DTSTART:20191027T010000
END:STANDARD
END:VTIMEZONE
BEGIN:VEVENT
DTSTART;TZID=Europe/Tallinn:20191115T110000
DTEND;TZID=Europe/Tallinn:20191115T150000
DTSTAMP:20260420T103529
CREATED:20191105T112640Z
LAST-MODIFIED:20191105T112640Z
UID:3960-1573815600-1573830000@2024.erametsaliit.ee
SUMMARY:Saaremaa Metsaühingu looduskaitseliste piirangute õppepäev
DESCRIPTION:Eesti Erametsaliidu liige Saaremaa Metsaühing korraldab 15. novembril algusega kell 11.00 õppepäeva erametsaomanikele. \nTeema: “Looduskaitselised piirangud metsa majandamisel”. \nÕppepäev toimub Kuressaares\, Tallinna t. 58 (Elektrumi ärimaja). Lektor on Keskkonnaameti looduskaitse juhtivspetsialist Kadri Hänni.\nVajalik eelregistreerimine hiljemalt 12.11.2019. \nÕppepäev on osalejatele tasuta\, toetab SA Erametsakeskus.\nInfo ja registreerimine: saaremaametsauhistu@gmail.com\, tel. 5045978\, 53412480 \n 
URL:https://2024.erametsaliit.ee/sundmus/saaremaa-metsauhingu-looduskaitseliste-piirangute-oppepaev/
ATTACH;FMTTYPE=image/jpeg:https://2024.erametsaliit.ee/wp-content/uploads/2019/10/burokraatia-asemel-voiks-metsaomanik-tegeleda-metsakasvatusega.jpg
END:VEVENT
BEGIN:VEVENT
DTSTART;TZID=Europe/Tallinn:20191004T130000
DTEND;TZID=Europe/Tallinn:20191004T170000
DTSTAMP:20260420T103529
CREATED:20190923T110439Z
LAST-MODIFIED:20190923T112049Z
UID:3840-1570194000-1570208400@2024.erametsaliit.ee
SUMMARY:Metsakaitse õppepäev Saaremaal
DESCRIPTION:Eesti Erametsaliidu liige Saaremaa Metsaühing korraldab 4. oktoobril algusega kell 13.00 metsakaitse õppepäeva erametsaomanikele: \n„Metsa kaitsmine erinevate kahjustuste eest”.\nRingsõit metsas\, buss väljub Kuressaarest Saaremaa Metsaühingu kontori eest (Tallinna t.58) kell 13.00. \nVajalik eelregistreerimine hiljemalt 02.10.2019. \nÕppepäev on osalejatele tasuta\, toetab SA Erametsakeskus.\nInfo ja registreerimine: saaremaametsauhistu@gmail.com\, tel.5045978\, 53412480
URL:https://2024.erametsaliit.ee/sundmus/metsakaitse-oppepaev-saaremaal/
LOCATION:Saaremaa\, Kuressaare\, Tallinna 58\, Kuressaare\, Saare maakond
ATTACH;FMTTYPE=image/png:https://2024.erametsaliit.ee/wp-content/uploads/2019/09/ppepaev-metsas.png
ORGANIZER;CN="Saaremaa Metsa%C3%BChing":MAILTO:saaremaametsauhistu@gmail.com
END:VEVENT
END:VCALENDAR