BEGIN:VCALENDAR
VERSION:2.0
PRODID:-//Eesti Erametsaliit - ECPv6.6.4.2//NONSGML v1.0//EN
CALSCALE:GREGORIAN
METHOD:PUBLISH
X-WR-CALNAME:Eesti Erametsaliit
X-ORIGINAL-URL:https://2024.erametsaliit.ee
X-WR-CALDESC:Events for Eesti Erametsaliit
REFRESH-INTERVAL;VALUE=DURATION:PT1H
X-Robots-Tag:noindex
X-PUBLISHED-TTL:PT1H
BEGIN:VTIMEZONE
TZID:Europe/Tallinn
BEGIN:DAYLIGHT
TZOFFSETFROM:+0200
TZOFFSETTO:+0300
TZNAME:EEST
DTSTART:20180325T010000
END:DAYLIGHT
BEGIN:STANDARD
TZOFFSETFROM:+0300
TZOFFSETTO:+0200
TZNAME:EET
DTSTART:20181028T010000
END:STANDARD
END:VTIMEZONE
BEGIN:VEVENT
DTSTART;TZID=Europe/Tallinn:20181130T100000
DTEND;TZID=Europe/Tallinn:20181130T130000
DTSTAMP:20260420T135143
CREATED:20181024T113100Z
LAST-MODIFIED:20181105T082642Z
UID:2116-1543572000-1543582800@2024.erametsaliit.ee
SUMMARY:EEML volinike koosolek
DESCRIPTION:Eesti Erametsaliidu korraline volinike koosolek toimub 30. novembril 2018 Pühajärve puhkekeskuses Valgamaal. Sellele eelneval õhtul on kõik volinikud oodatud erametsaliidu poolt korraldatavale õhtusöögile. 
URL:https://2024.erametsaliit.ee/sundmus/eeml-volinike-koosolek/
END:VEVENT
BEGIN:VEVENT
DTSTART;TZID=Europe/Tallinn:20181129T110000
DTEND;TZID=Europe/Tallinn:20181129T170000
DTSTAMP:20260420T135143
CREATED:20181024T112820Z
LAST-MODIFIED:20181105T082958Z
UID:2114-1543489200-1543510800@2024.erametsaliit.ee
SUMMARY:Metsanduse üleriigiline infopäev
DESCRIPTION:Eesti Põllumajandus-Kaubanduskoda korraldab koostöös Maaeluministeeriumi\, Eesti Erametsaliidu ja SA Erametsakeskusega taas iga-aastase üleriigilise metsanduse infopäeva. See toimub 29. novembril algusega kell 11 Pühajärve puhkekeskuses. Teemaks on metsandustoetuste olevik ja tulevik uue eurotoetuste perioodi valguses\, sekka infot maaparandusseaduse muudatuste ja metsanduse praktikabaasi edendamise kohta.\n \nTäpsem info: https://2024.erametsaliit.ee/2018/11/05/metsanduse-uleriigiline-infopaev-29-novembril 
URL:https://2024.erametsaliit.ee/sundmus/uleriigiline-metsanduse-infopaev/
END:VEVENT
BEGIN:VEVENT
DTSTART;TZID=Europe/Tallinn:20181017T140000
DTEND;TZID=Europe/Tallinn:20181017T180000
DTSTAMP:20260420T135143
CREATED:20181003T130626Z
LAST-MODIFIED:20181003T130626Z
UID:2074-1539784800-1539799200@2024.erametsaliit.ee
SUMMARY:Õppepäev: Metsaomanik ja maksud
DESCRIPTION:Eesti Erametsaliit koostöös Võrumaa Metsaühistuga korraldab metsaomanikele maksu teemalise õppepäeva\, mis toimub 17. oktoobril 2018 kell 14.00-18.00 Kubija hotellis Võru linnas. \nOsalemine eelregistreerimise alusel. Eelregistreerimine kuni 10. oktoobrini e-posti teel vorumaa@metsauhistu.ee või telefonil 5308 2680. \nÕppepäeval osalemine on tasuta. Toetab Keskkonnainvesteeringute Keskus.
URL:https://2024.erametsaliit.ee/sundmus/oppepaev-metsaomanik-ja-maksud-2/
END:VEVENT
BEGIN:VEVENT
DTSTART;TZID=Europe/Tallinn:20180918T100000
DTEND;TZID=Europe/Tallinn:20180918T170000
DTSTAMP:20260420T135143
CREATED:20180905T140243Z
LAST-MODIFIED:20180907T084803Z
UID:2006-1537264800-1537290000@2024.erametsaliit.ee
SUMMARY:Õppepäev: Metsakultuuride kahjustused ja ulukitõrjevahendid
DESCRIPTION:Eesti Erametsaliit korraldab koostöös Vooremaa Metsaühistuga õppepäeva metsakultuuride kahjustuste ja ulukitõrjevahendite teemal. Õppepäev toimub 18. septembril 2018 algusega kell 10.00 Tabivere rahvamaja 2. korrusel (Tuuliku 10\, Tabivere). \nEelregistreerimine veebivormi kaudu\, e-posti teel info@vooremaamets.ee või telefonil 53 884 999.
URL:https://2024.erametsaliit.ee/sundmus/oppepaev-metsakultuuride-kahjustused-ja-ulukitorjevahendid/
END:VEVENT
BEGIN:VEVENT
DTSTART;TZID=Europe/Tallinn:20180818T120000
DTEND;TZID=Europe/Tallinn:20180818T180000
DTSTAMP:20260420T135143
CREATED:20180418T135530Z
LAST-MODIFIED:20180725T132704Z
UID:1065-1534593600-1534615200@2024.erametsaliit.ee
SUMMARY:Kogu pere metsapäev
DESCRIPTION:18. augustil kell 12.00-18.00 Uuemõisa mõisapargis Läänemaal\nKogu pere metsapäeval saab uudistada kõike\, mida mets endas peidab. Tegevusi jagub nii suurtele kui ka väikestele metsasõpradele.  \nMetsalisi tervitavad superstaarid Jüri Pootsmann ja Uudo Sepp\, korda hoiab Urmas Vaino. \nVaata täpsemat programmi SIIT või leia üritus FACEBOOKIST.\nKogu pere metsapäeva korraldavad Eesti Erametsaliit ja SA Erametsakeskus\, toetab Keskkonnainvesteeringute Keskus.
URL:https://2024.erametsaliit.ee/sundmus/metsamajandajate-kokkutulek/
END:VEVENT
BEGIN:VEVENT
DTSTART;VALUE=DATE:20180818
DTEND;VALUE=DATE:20180819
DTSTAMP:20260420T135143
CREATED:20180725T132511Z
LAST-MODIFIED:20180725T132511Z
UID:1765-1534550400-1534636799@2024.erametsaliit.ee
SUMMARY:25. metsamajandajate kokkutulek
DESCRIPTION:Traditsioonile metsamajandajate kokkutulek toimub tänavu 18. augustil Läänemaal \nKavas: \n\nekskursioon 2017. aasta parima metsamajandaja Liidia Kösteri metsas\nerinevad metsandusega seotud tegevused Kogu pere metsapäeva raames\ntänavuse parimate metsamajandajate konkursi tulemuste välja kuulutamine\nsuperstaaride Uudo Sepa ja Jüri Pootsmani kontsert\npidulik õhtusöök Uuemõisa mõisa valges saalis\n\nTäpsem info SIIT.
URL:https://2024.erametsaliit.ee/sundmus/25-metsamajandajate-kokkutulek/
END:VEVENT
BEGIN:VEVENT
DTSTART;VALUE=DATE:20180811
DTEND;VALUE=DATE:20180812
DTSTAMP:20260420T135143
CREATED:20180621T084215Z
LAST-MODIFIED:20180621T084215Z
UID:1671-1533945600-1534031999@2024.erametsaliit.ee
SUMMARY:Arvamusfestivalil metsaala
DESCRIPTION:Kutsume kõiki 11. augustil Paides toimuvale Arvamusfestivali metsaalale\, kus arutame metsanduse debati näitel poliitikakujundamise kultuuri\, metsakaubamajast saadavate erinevate keskkonnahüvede ja Eesti metsade tuleviku üle. \nMetsaala programm 11. augustil: \n\nKell 12.00 \nNäha puude taga metsa – poliitikakujundamise kultuuri analüüs metsanduse debati näitel \nArutelus osalejad: Liina Gross – Eesti Metsaseltsi tegevjuht\, Kadri Lainas – sõnumiagentuuri Akkadian asutaja\, Marku Lamp – Keskkonnaministeeriumi asekantsler\nKorraldaja: Citizen OS \n\nKell 14.00\nMetsakaubamaja – valikus on erinevad keskkonnahüved! \nArutelus osalejad: Ando Eelmaa – erametsaomanik\, Lauri Klein – ökosüsteemiteenuste ekspert\, Maie Kiisel – ühiskonna- ja meediateadlane\nKorraldaja: Eesti Erametsaliit \n\nKell 16.00\nMillisena soovime näha Eesti metsasid 100 aasta pärast? \nArutelus osalejad: Kadri-Aija Viik – MTÜ Ühinenud Metsaomanikud juht; Hardi Tullus – Eesti Maaülikooli teadlane\, Asko Lõhmus – Tartu Ülikooli teadlane\, Henrik Välja – Eesti Metsa- ja Puidutööstuse Liit tegevjuht\, Marku Lamp – Keskkonnaministeeriumi asekantsler\, Kalle Muuli ­– keskkonnaministri nõunik\nKorraldaja: Keskkonnaministeerium \n\n\nMetsaala moderaator on Anu Välba. \nMetsateemalised lauludega esinevad Järvamaa laululapsed. \nArvamusfestivali metsaala korraldajad: Keskkonnaministeerium\, Eesti Erametsaliit ja CitizenOS. Korraldamisel on abiks: ÖselBirch\, Riigimetsa Majandamise Keskus ning Erametsakeskus
URL:https://2024.erametsaliit.ee/sundmus/arvamusfestivalil-metsaala/
END:VEVENT
BEGIN:VEVENT
DTSTART;TZID=Europe/Tallinn:20180717T100000
DTEND;TZID=Europe/Tallinn:20180717T100000
DTSTAMP:20260420T135143
CREATED:20180702T090830Z
LAST-MODIFIED:20180702T090830Z
UID:1690-1531821600-1531821600@2024.erametsaliit.ee
SUMMARY:Õppepäev "Metsakasvukohatüübid"
DESCRIPTION:Eesti Erametsaliit koostöös Hiiumaa Metsaseltsiga korraldab 17. juulil algusega kell 10.00 Soera Talumuuseumi metsanduse õppeklassisis õppepäeva metsakasvukohatüüpide teemal.  \nKoolitajad Jürgen Aosaar ja Mats Varik Eesti Maaülikoolist. \nAlustame kell 10.00 Soera metsanduslikus väliõppeklassis teooriaga. Peale seda liigume autodega \nmööda Hiiumaad ja õpime metsas erinevaid metsakasvukohatüüpe. \nOsalejatele on õppepäev tasuta. Toetab Keskkonnainvesteeringute Keskus. \nPalun teatage oma osalemisest e-posti aadressil: aira.toss@erametsaliit.ee
URL:https://2024.erametsaliit.ee/sundmus/oppepaev-metsakasvukohatuubid/
END:VEVENT
BEGIN:VEVENT
DTSTART;TZID=Europe/Tallinn:20180531T110000
DTEND;TZID=Europe/Tallinn:20180531T110000
DTSTAMP:20260420T135143
CREATED:20180524T121356Z
LAST-MODIFIED:20180524T121356Z
UID:1601-1527764400-1527764400@2024.erametsaliit.ee
SUMMARY:Õppepäev "Metsaomanik ja maksud"
DESCRIPTION:Eesti Erametsaliit koostöös Saaremaa Metsaühinguga korraldab 31.mail algusega kell 11.00 õppepäeva teemal „Metsaomanik ja maksud”.  Lektor on Eha Kütt Eesti Maksu- ja Tolliametist. Õppepäeva teise osa teemaks on “Erametsaomanike toetused”.  \nÕppepäev toimub Kuressaares\, Tallinna tn 58 (Elektrumi ärimaja) 3. korruse seminariruumis. \nVajalik eelregistreerimine hiljemalt 28.05.2018.  \nKoolitus on osalejatele tasuta. \nÕppepäeva läbiviimist toetab Keskkonnainvesteeringute Keskus. \nLisainfo ja registreerimine: telefonil 53412480\, 5045978 või e-posti aadressil saaremaametsauhistu@gmail.com
URL:https://2024.erametsaliit.ee/sundmus/oppepaev-metsaomanik-ja-maksud/
END:VEVENT
BEGIN:VEVENT
DTSTART;TZID=Europe/Tallinn:20180522T140000
DTEND;TZID=Europe/Tallinn:20180522T173000
DTSTAMP:20260420T135143
CREATED:20180503T124149Z
LAST-MODIFIED:20180503T124149Z
UID:1563-1526997600-1527010200@2024.erametsaliit.ee
SUMMARY:Metsandusliku seadusandluse õppepäev
DESCRIPTION:Eesti Erametsaliit korraldab 22. mail 2018 Tallinnas metsandusliku seadusandluse õppepäeva. \nAeg: 22.05.2018 kell 14.00-17.30\n Koht: Zappi seminariruum Ülemistel (Lõõtsa 6\, II korrus) \nLektor: Indrek Veso (Advokaadibüroo Veso & Partnerid)\n Teemad: Piirinaabri õigused ja kohustused; võõra kinnisasja kasutamine; ühis- ja kaasomand; kasvava metsa raieõiguse müümine; elektripaigaldiste talumine \nÕppepäev on suunatud eelkõige metsaomanikele\, aga oodatud on ka kõik teised huvilised. \nEelregistreerimine kestab 17. maini aadressil: https://goo.gl/forms/4lcI0XtO0CRqBaHR2 \nOsalemine on tasuta! \nToetab Keskkonnainvesteeringute Keskus.
URL:https://2024.erametsaliit.ee/sundmus/metsandusliku-seadusandluse-oppepaev/
END:VEVENT
BEGIN:VEVENT
DTSTART;VALUE=DATE:20180518
DTEND;VALUE=DATE:20180519
DTSTAMP:20260420T135143
CREATED:20180514T122205Z
LAST-MODIFIED:20180514T122520Z
UID:1590-1526601600-1526687999@2024.erametsaliit.ee
SUMMARY:Metsasektori avatud uste päev
DESCRIPTION:Eesti Metsaselts kutsub kõiki huvilisi 18. mail Eesti metsasektori avatud uste päevale\, kus erametsaomanikud\, metsa- ja puidutööstuse ettevõtted ja RMK spetsialistid näitavad ja räägivad huvilistele\, kuidas metsa eest hoolitsemine igapäevaselt ja iga-aastaselt käib.  \nKell 10:00 Metsa- ja puidutööstuste külastused:\n Kohila Vineer – Raplamaa \n Nordic Houses KT – Harjumaa\n AS Toftan – Võrumaa \n Kell 12:00 RMK metsaistutustalgud:\n Kohila vald – Raplamaa\n Kuusalu vald – Harjumaa\n Kooraste küla – Põlvamaa \n Kell 14:00 Metsamatkad erametsaomanikega:\n Varangu küla\, Lääne-Virumaa – Lauri Salumäe (Rakvere Metsaühistu)\n Kelba küla\, Raplamaa – Valdu Reinaas (Kohila Metsaselts)\n Kibaru küla\, Viljandimaa – perekond Udam (MTÜ Ühinenud Metsaomanikud) \n  \nTäpsem info\, registreerimine ja juhised kohaletulekuks: www.rmk.ee/juubelimets
URL:https://2024.erametsaliit.ee/sundmus/metsasektori-avatud-uste-paev/
END:VEVENT
BEGIN:VEVENT
DTSTART;VALUE=DATE:20180504
DTEND;VALUE=DATE:20180505
DTSTAMP:20260420T135143
CREATED:20180418T134754Z
LAST-MODIFIED:20180422T130830Z
UID:1058-1525392000-1525478399@2024.erametsaliit.ee
SUMMARY:Metsamajandajate konkursi tähtaeg
DESCRIPTION:Eestis on üle 100 tuhande erametsaomaniku\, kellel kõigil on oma metsa hoidmisel ja majandamisel isiklikud eesmärgid ning põhimõtted. Metsaomanikud\, kes oma metsast hoolivad ja seda jätkusuutlikult majandavad\, väärivad esiletõstmist ja tunnustamist. Selleks korraldab Eesti Erametsaliit juba 25. korda parimate metsamajandajate konkurssi. Teist aastat järjest tehakse seda koostöös Erametsakeskusega. \nParima metsamajandaja tiitlile oodatakse kandideerima kõiki metsaomanikke\, olenemata metsa majandamise juriidilisest vormist. Oluline on\, et metsa majandatakse vastutustundlikult ja hästi. \nKandideerimiseks tuleb hiljemalt 4. maiks täita ankeet\, mille saab alla laadida SIIT või täita VEEBIS. \nKandidaate hindab 4-liikmeline komisjon\, kes külastab mai- ja juunikuu jooksul kõikide osalejate metsi. Hinnatakse metsaomanike viimaste aastate metsamajanduslikke töid ja muid metsa erinevate väärtustega seotud tegevusi. Arvesse võetakse ka nende põhimõtteid ja väärtushinnanguid metsade majandamisel\, panustamist kogukonna ja maaelu arengusse ning traditsioonide hoidmisse. \nKui tead kedagi\, kes väärib parima metsamajandaja tiitlit\, siis anna sellest teada SIIN. \nKonkursil osalejatele paneb väärilised auhinnad välja STIHL. \nVõitjad selguvad 18. augustil Läänemaal toimuval metsamajandajate kokkutulekul\, kus toimub ka ekskursioon eelmise aasta võitja Liidia Kösteri metsa. \nKokkutuleku täpsema programmi ja ajakava avaldame hiljem. \nLisainfo: \nArpo Kullerkupp\, Eesti Erametsaliidu juhatuse nõunik \nTel: 525 1026\, e-post: arpo.kullerkupp@erametsaliit.ee
URL:https://2024.erametsaliit.ee/sundmus/metsamajandajate-konkursi-tahtaeg/
ATTACH;FMTTYPE=image/jpeg:https://2024.erametsaliit.ee/wp-content/uploads/2018/04/peremees.jpg
END:VEVENT
END:VCALENDAR